BEGIN:VCALENDAR
VERSION:2.0
PRODID:-//The Grey - ECPv4.5.10.1//NONSGML v1.0//EN
CALSCALE:GREGORIAN
METHOD:PUBLISH
X-WR-CALNAME:The Grey
X-ORIGINAL-URL:https://thegreyrestaurant.com
X-WR-CALDESC:Events for The Grey
BEGIN:VEVENT
DTSTART;TZID=UTC+0:20170117T170000
DTEND;TZID=UTC+0:20170117T200000
DTSTAMP:20260425T212255
CREATED:20170110T213515Z
LAST-MODIFIED:20170110T214615Z
UID:519-1484672400-1484683200@thegreyrestaurant.com
SUMMARY:Service Brewing Night in the Diner Bar
DESCRIPTION:The Grey and Service Brewing aren’t done celebrating the New Year\, so come out on Tuesday\, January 17th for good beer\, good food\, and giveaways. \n
URL:https://thegreyrestaurant.com/cal/service-brewing-night-in-the-diner-bar/
ATTACH;FMTTYPE=image/png:https://thegreyrestaurant.com/wp-content/uploads/2017/01/Grey-and-Service-e1484084753839.png
END:VEVENT
END:VCALENDAR