BEGIN:VCALENDAR
VERSION:2.0
PRODID:-//The Grey - ECPv4.5.10.1//NONSGML v1.0//EN
CALSCALE:GREGORIAN
METHOD:PUBLISH
X-WR-CALNAME:The Grey
X-ORIGINAL-URL:https://thegreyrestaurant.com
X-WR-CALDESC:Events for The Grey
BEGIN:VEVENT
DTSTART;TZID=UTC+0:20170406T060000
DTEND;TZID=UTC+0:20170406T203000
DTSTAMP:20260426T005329
CREATED:20170322T161555Z
LAST-MODIFIED:20170322T161555Z
UID:627-1491458400-1491510600@thegreyrestaurant.com
SUMMARY:Pop Up Soda Shop with Leopold's
DESCRIPTION:We’re partnering with Leopold’s Ice Cream to bring you a night of handmade adult floats\, shakes\, and soda shop beverages. Non-alcoholic beverages will also be available. \n
URL:https://thegreyrestaurant.com/cal/pop-up-soda-shop-with-leopolds/
ATTACH;FMTTYPE=image/jpeg:https://thegreyrestaurant.com/wp-content/uploads/2017/03/17311065_921995264570619_5651395382231617733_o.jpg
END:VEVENT
END:VCALENDAR