BEGIN:VCALENDAR
VERSION:2.0
PRODID:-//The Grey - ECPv4.5.10.1//NONSGML v1.0//EN
CALSCALE:GREGORIAN
METHOD:PUBLISH
X-WR-CALNAME:The Grey
X-ORIGINAL-URL:https://thegreyrestaurant.com
X-WR-CALDESC:Events for The Grey
BEGIN:VEVENT
DTSTART;TZID=UTC+0:20161112T120000
DTEND;TZID=UTC+0:20161112T150000
DTSTAMP:20260425T181443
CREATED:20160930T152811Z
LAST-MODIFIED:20161017T195848Z
UID:412-1478952000-1478962800@thegreyrestaurant.com
SUMMARY:November Stopover in the Yard
DESCRIPTION:A benefit for the Flannery O’Connor Childhood Home \nCost: $25\, includes food\, concert and a beverage. $4 of each ticket will be donated to the Flannery O’ Connor Childhood home  \nArtists: Amythyst Kiah and Her Chest Of Glass &  Sweet Thunder Strolling Band \nDoors open at 11:30am \nMenu: Chef Mashama will be cooking up Beer Can Backwards Chicken on the Grill citing this quote from Flannery O’Connor  –  “When I was six I had a chicken that walked backward and was in the Pathe News. I was in it too with the chicken. I was just there to assist the chicken but it was the high point in my life. Everything since has been anticlimactic.” \n  \n
URL:https://thegreyrestaurant.com/cal/november-stopover-in-the-yard/
CATEGORIES:Stopover in the Yard
ATTACH;FMTTYPE=image/jpeg:https://thegreyrestaurant.com/wp-content/uploads/2016/09/Yard.jpg
END:VEVENT
END:VCALENDAR