BEGIN:VCALENDAR
VERSION:2.0
PRODID:-//The Grey - ECPv4.5.10.1//NONSGML v1.0//EN
CALSCALE:GREGORIAN
METHOD:PUBLISH
X-WR-CALNAME:The Grey
X-ORIGINAL-URL:https://thegreyrestaurant.com
X-WR-CALDESC:Events for The Grey
BEGIN:VEVENT
DTSTART;TZID=UTC+0:20170521T173000
DTEND;TZID=UTC+0:20170521T220000
DTSTAMP:20260426T023520
CREATED:20170420T203221Z
LAST-MODIFIED:20170509T130527Z
UID:647-1495387800-1495404000@thegreyrestaurant.com
SUMMARY:May Sunday Supper
DESCRIPTION:Theme: Honoring Armed Forces Day \nMenu: \n\nPeanut butter on saltine crackers\nGrilled Corn\nArmy Base stew\nSalad Bar Salad\n\n  \nWe are partnering with Service Brewing Co.\, and proceeds of beer sales will go towards the Chatham Savannah Authority for the homeless\, Tiny House Project for Homeless Veterans. \nServing Gun Bunny Witbier:\nAle brewed with Tangelo Peel\, Mandarin Orange\, and Indian Corriander Seed 5.1%\nAs action on the battlefield mounts\, it’s the brave Gun Bunny who leaps forward to load the next artillery round. In honor of these courageous men and women\, we dedicate this classic Belgian-style witbier\, infused with Indian coriander seed\, sweet tangelo peel & muddled Mandarin orange. With its bright flavors and dry finish\, this crisp refreshing brew is right on target. \n
URL:https://thegreyrestaurant.com/cal/may-sunday-supper/
CATEGORIES:Sunday Supper
ATTACH;FMTTYPE=image/jpeg:https://thegreyrestaurant.com/wp-content/uploads/2016/09/Dec1.jpg
END:VEVENT
END:VCALENDAR