BEGIN:VCALENDAR
VERSION:2.0
PRODID:-//The Grey - ECPv4.5.10.1//NONSGML v1.0//EN
CALSCALE:GREGORIAN
METHOD:PUBLISH
X-WR-CALNAME:The Grey
X-ORIGINAL-URL:https://thegreyrestaurant.com
X-WR-CALDESC:Events for The Grey
BEGIN:VEVENT
DTSTART;TZID=UTC+0:20170618T173000
DTEND;TZID=UTC+0:20170618T220000
DTSTAMP:20260426T041315
CREATED:20170508T213330Z
LAST-MODIFIED:20170616T193447Z
UID:668-1497807000-1497823200@thegreyrestaurant.com
SUMMARY:June Sunday Supper
DESCRIPTION:Theme: Father’s Day \nMenu: \n\nFlank steak / Ribs\nbaked potatoes\nMac n’ cheese\nButter Beans\nIceberg wedge salad\nStrawberry Poundcake\n\n
URL:https://thegreyrestaurant.com/cal/june-sunday-supper/
CATEGORIES:Sunday Supper
ATTACH;FMTTYPE=image/jpeg:https://thegreyrestaurant.com/wp-content/uploads/2017/05/June-Supper.jpg
END:VEVENT
END:VCALENDAR