BEGIN:VCALENDAR
VERSION:2.0
PRODID:-//The Grey - ECPv4.5.10.1//NONSGML v1.0//EN
CALSCALE:GREGORIAN
METHOD:PUBLISH
X-WR-CALNAME:The Grey
X-ORIGINAL-URL:https://thegreyrestaurant.com
X-WR-CALDESC:Events for The Grey
BEGIN:VEVENT
DTSTART;TZID=America/New_York:20170219T173000
DTEND;TZID=America/New_York:20170219T220000
DTSTAMP:20260425T143942
CREATED:20161214T152314Z
LAST-MODIFIED:20161214T152314Z
UID:481-1487525400-1487541600@thegreyrestaurant.com
SUMMARY:February Sunday Supper
DESCRIPTION:Theme: Honoring our past Presidents \nMenu $40 Per Person: \n\nPork Ribs\nBermuda Potatoes\nSauerbraten\nVegetable salad\nFried Apple Pies\n\n
URL:https://thegreyrestaurant.com/cal/february-sunday-supper/
CATEGORIES:Sunday Supper
ATTACH;FMTTYPE=image/jpeg:https://thegreyrestaurant.com/wp-content/uploads/2016/09/Dec.jpg
END:VEVENT
END:VCALENDAR